BEGIN:VCALENDAR
VERSION:2.0
PRODID:-//Alfredo Vivarelli - ECPv6.0.9//NONSGML v1.0//EN
CALSCALE:GREGORIAN
METHOD:PUBLISH
X-ORIGINAL-URL:https://alfredovivarelli.com
X-WR-CALDESC:Eventos para Alfredo Vivarelli
REFRESH-INTERVAL;VALUE=DURATION:PT1H
X-Robots-Tag:noindex
X-PUBLISHED-TTL:PT1H
BEGIN:VTIMEZONE
TZID:UTC
BEGIN:STANDARD
TZOFFSETFROM:+0000
TZOFFSETTO:+0000
TZNAME:UTC
DTSTART:20220101T000000
END:STANDARD
END:VTIMEZONE
BEGIN:VEVENT
DTSTART;TZID=UTC:20230309T200000
DTEND;TZID=UTC:20230309T200000
DTSTAMP:20260419T132618
CREATED:20230304T201918Z
LAST-MODIFIED:20230304T202556Z
UID:2228-1678392000-1678392000@alfredovivarelli.com
SUMMARY:CINE: "MUERTE EN VENECIA"
DESCRIPTION:En un presente donde las películas y las series modelan y dominan los gustos de los espectadores\, la mención de una obra realizada medio siglo atrás\, ahuyenta a la mayoría de ellos. Los medios de comunicación\, con sus doctrinas basadas en la urgencia del presente como elemento definitorio y la negación de la memoria (salvo la pequeña que ellos cultivan fingiendo un interés que no tienen pero intentando mantener el «negocio» para «todos los gustos») de todo cine anterior al de los últimos años\, cumplen con su cuota de daño sobre todo un pasado deslumbrante donde lo artístico es visto como algo caduco\, aburrido\, sin atractivo porque «es lento» o «no pasa nada». \nPara los curiosos\, y porque no afirmar valientes\, que no se resignan a esta banal y manipuladora oferta\, existe la vía de la «navegación» en internet o algunos canales específicos y minoritarios (cine. ar\, Europa-Europa) para saciar sus inquietudes y apetitos por ese otro cine\, deslumbrante\, maravilloso y real. Que sigue esperando\, como la bella durmiente del cuento\, que alguien le despierte de la monotonía instalada. Los espacios alternativos son otra posibilidad de satisfacer estos apetitos. Y un Museo es hoy uno de esos paraísos para cinéfilos y buscadores del arte en general. Luchino Visconti (1906-1976)\, Gustav Mahler (1860-1911)\, Thomas Mann (1875-1955)\, cineasta y director de teatro y ópera\, compositor musical y escritor\, respectivamente\, están considerados entre los grandes artistas del Siglo XX y sus creaciones tuvieron un punto de encuentro en 1971 cuando se estrenó «Muerte en Venecia». Que fue desde aquel mismo momento tan aplaudida como vapuleada por la crítica\, aunque el apoyo popular fue mayoritario y el público sucumbió a sus dos horas de belleza y placer memorable para los sentidos. \nLa historia sitúa al protagonista\, prestigioso músico en horas bajas a causa\, tanto de un drama familiar como la vivencia de su propio envejecimiento. Llega a Venecia en busca de refugio y compostura para su alma herida y encuentra que casi nada es lo que esperaba: la ciudad está envuelta en un halo misterioso donde todos hablan en voz baja para no alarmar al resto\, pero que poco a poco va deviniendo en peste que se expande por canales y palacios decadentemente hermosos. En el hotel que se hospeda\, en la isla de Lido\, una familia de aristócratas ocupa su atención y Tadzio\, el joven bello del grupo\, comienza un insistente cruce de miradas con el señor mayor ( «…nunca deberías mirar de esa forma a un hombre como yo…»\, piensa el músico en uno de los tantos cruces con el efebo). Visconti plantea no solo la busqueda imposible del ideal de belleza\, sino otras cuestiones no menos complejas: el deseo y sus dificultades de verse realizado\, la decadencia de una clase social alta afectada por la Primera Guerra Mundial\, las nuevas clases emergentes que luchan por su lugar\, la sexualidad insatisfecha\, la plenitud del joven y la angustia de quien ya no lo es. Venecia presta su decorado inigualable\, recordándonos porque sigue siendo siendo una de las ciudades más deslumbrantes de la Tierra\, pero también su lado oscuro\, abyecto\, donde la podredumbre y los malos olores se intercambian con las fragancias de comidas\, trajes y perfumes exquisitos. Los ricos y los pobres\, lo bello y lo feo\, la bondad y la maldad\, todo y todos danzando al son de la extraordinaria música de Mahler y la fotografía del maestro Pasqualino de Santis (1927-1996)\, uno de los mayores fotógrafos italianos. El joven sueco Bjorn Andresen (1955) realiza su única aparición exitosa (filmó luego unos 30 trabajos pero no volvió a brillar) en cine y el enorme Dirk Bogarde (1921-1999)\, británico de flema\, dando vida a un destartalado espíritu alemán\, son las dos grandes bazas interpretativas del film. La diva Silvana Mangano (1930-1989)\, una de las grandes figuras emergentes después de la Segunda Guerra Mundial hasta su retiro a temprana edad\, completa el trío de protagonistas de esta película que no dejará indiferente a nadie. Porque tiene el valor de las grandes obras maestras y las posibilidades de aceptarla\, o también negarle. Una película fundamental que a medio siglo de su realización propone cuestiones contemporáneas para ser analizadas desde nuestra mirada actual. Y sacar conclusiones a la par de vivir dos horas del mejor cine\, el cine considerado como obra de expresión artística\, mucho más allá del puro y justo entretenimiento. Ese\, que poco a poco\, como en una nueva Dictadura de las emociones\, parece pero no logra tapar el inmenso bosque de imágenes que esperan\, una vez más\, ser recuperadas. \nMUERTE EN VENECIA / MORTE A VENEZIA / Italia- Francia-1971 / Director Luchino Visconti / Intérpretes Dirk Bogarde\, Silvana Mangano\, Bjorn Andrésen\, Marisa Berenson\, Romolo Valli / Basada en la novela de Thomas Mann / Color / En idioma original con subtítulos en castellano / Duración 2.05 minutos.
URL:https://alfredovivarelli.com/event/cine-muerte-en-venecia/
LOCATION:Museo López Claro\, Av. Mitre 410\, Azul\, Buenos Aires\, 7300\, Argentina
CATEGORIES:Cine fórum,Conferencia
ATTACH;FMTTYPE=image/jpeg:https://alfredovivarelli.com/wp-content/uploads/2023/03/Muerte-en-Venecia-3.jpg
END:VEVENT
BEGIN:VEVENT
DTSTART;TZID=UTC:20220612T180000
DTEND;TZID=UTC:20220612T180000
DTSTAMP:20260419T132618
CREATED:20220522T181337Z
LAST-MODIFIED:20220522T181337Z
UID:1988-1655056800-1655056800@alfredovivarelli.com
SUMMARY:CINE: "ENTRE NAVAJAS Y SECRETOS" (2019).
DESCRIPTION:Ya podemos hablar de un «cine anterior y posterior» a la pandemia. El año 2019 y sus estrenos cinematográficos quedará como un periodo a estudiar en el futuro y esta película será una de las emblemáticas del cine norteamericano porque combinó dos cuestiones que rara vez coinciden en la producción de los últimos tiempos: el apoyo critico y las taquillas globales. Fue tan grande su aceptación que ya han rodado una segunda parte y se prepara una tercera. «Entre navajas y secretos» retoma una idea nada original pero con excelentes resultados: el regreso al cine inspirado en tramas criminales pero desde la perspectiva de la comedia. La escritora británica Agatha Christie (1890-1976) vivió 85 años\, escribió cuentos\, obras de teatro y 66 novelas policiales. Algunas de ellas fueron llevadas al cine desde 1928 hasta el presente aunque el medio que mas provecho sacó y saca de sus textos es la televisión. Y es precisamente en ello que se inspira esta producción: una de las creaciones mas populares de la autora fue el inspector Hércules Poirot\, un ciudadano belga que sufre por ser confundido con francés y que destila humor a la par que solvencia para descubrir los crímenes mas rocambolescos: el detective Benoit Blanc de este film no es mas que una reencarnación actualizada que homenajea a aquel. Su propio nombre afrancesado es un guiño a los fanáticos de Christie. Es el encargado de descubrir quién es el culpable de la muerte de un famoso escritor de novelas criminales\, el millonario Harlan Thrombey\, jefe de una familia demencial donde sus integrantes tienen todos motivos para ser el asesino. Con enorme sentido del humor\, la comedia y el suspenso se dan cita con todas los giros narrativos necesarios para construir una gran historia. El cine y la literatura vuelven a cruzar sus senderos y dan como resultado una de las mas disfrutables obras del cine presente\, donde no falta una inteligente reflexión sobre las diferencias sociales y un progresismo ideológico apenas encubierto. Un grupo de grandes intérpretes da vida a los desquiciados personajes: el intérprete de James Bond\, el siempre elegante Daniel Craig se pone a la cabeza de la investigación\, siendo Christopher Plummer en uno de sus últimos trabajos\, la contrapartida talentosa como el autor muerto a poco de cumplir 85 años. Y el resto del elenco hace las delicias de la función: la casa enorme y misteriosa\, el bosque que la rodea\, las bellas inocentes y las malvadas\, la música y la estética puesta al servicio de un gran espectáculo. Dos horas de entretenimiento inteligente y el placer recuperado del buen cine. Todo esto y mucho mas es la obra reseñada. El espíritu novelesco demuestra ser de los mas vitales y vigentes entre los géneros preferidos por lectores y espectadores porque lo criminal sublima nuestras tendencias y secretos mas oscuros y al transformarlos en ficción nos permite un placer siempre renovable. \n«ENTRE NAVAJAS Y SECRETOS» / KNIVES OUT.2019- ESTADOS UNIDOS / Dirección Rian Johnson / Intérpretes Christopher Plummer\, Daniel Craig\, Jamie Lee Curtis\, Ana de Armas\, Chris Evans\, Michael Shannon\, Toni Colette\, Don Johnson / Color / Hablada en inglés\, español e hindi con subtítulos en castellano / Duración 2h 10 minutos.
URL:https://alfredovivarelli.com/event/cine-entre-navajas-y-secretos-2019/
LOCATION:Biblioteca Popular Asociación Cultural de Chillar\, Cortázar 1037\, Chillar\, Buenos Aires\, 7311\, Argentina
CATEGORIES:Cine fórum
ATTACH;FMTTYPE=image/jpeg:https://alfredovivarelli.com/wp-content/uploads/2022/05/Emtre...9.jpg
END:VEVENT
END:VCALENDAR